BEGIN:VCALENDAR
VERSION:2.0
PRODID:-//NOSUF - ECPv6.15.20//NONSGML v1.0//EN
CALSCALE:GREGORIAN
METHOD:PUBLISH
X-ORIGINAL-URL:https://nosuf.ch
X-WR-CALDESC:Veranstaltungen für NOSUF
REFRESH-INTERVAL;VALUE=DURATION:PT1H
X-Robots-Tag:noindex
X-PUBLISHED-TTL:PT1H
BEGIN:VTIMEZONE
TZID:Europe/Zurich
BEGIN:DAYLIGHT
TZOFFSETFROM:+0100
TZOFFSETTO:+0200
TZNAME:CEST
DTSTART:20250330T010000
END:DAYLIGHT
BEGIN:STANDARD
TZOFFSETFROM:+0200
TZOFFSETTO:+0100
TZNAME:CET
DTSTART:20251026T010000
END:STANDARD
BEGIN:DAYLIGHT
TZOFFSETFROM:+0100
TZOFFSETTO:+0200
TZNAME:CEST
DTSTART:20260329T010000
END:DAYLIGHT
BEGIN:STANDARD
TZOFFSETFROM:+0200
TZOFFSETTO:+0100
TZNAME:CET
DTSTART:20261025T010000
END:STANDARD
BEGIN:DAYLIGHT
TZOFFSETFROM:+0100
TZOFFSETTO:+0200
TZNAME:CEST
DTSTART:20270328T010000
END:DAYLIGHT
BEGIN:STANDARD
TZOFFSETFROM:+0200
TZOFFSETTO:+0100
TZNAME:CET
DTSTART:20271031T010000
END:STANDARD
END:VTIMEZONE
BEGIN:VEVENT
DTSTART;TZID=Europe/Zurich:20260921T173000
DTEND;TZID=Europe/Zurich:20260921T230000
DTSTAMP:20260424T175405
CREATED:20260115T101943Z
LAST-MODIFIED:20260115T101943Z
UID:10000512-1790011800-1790031600@nosuf.ch
SUMMARY:Besuch KVA Weinfelden 21. September 2026 | Kanton Thurgau
DESCRIPTION:
URL:https://nosuf.ch/veranstaltung/besuch-kva-weinfelden-21-september-2026-kanton-thurgau/
LOCATION:KVA Weinfelden\, Rüteliholzstrasse 5\,\, Weinfelden\, 8570\, Switzerland
ATTACH;FMTTYPE=image/jpeg:https://nosuf.ch/wp-content/uploads/2025/11/csm_KVA-TG_ZUGANG-TAG_250728_770x510_be3f2a3df1.jpg
ORGANIZER;CN="NOSUF Unternehmer Forum":MAILTO:info@nosuf.ch
END:VEVENT
END:VCALENDAR