BEGIN:VCALENDAR
VERSION:2.0
PRODID:-//NOSUF - ECPv6.15.20//NONSGML v1.0//EN
CALSCALE:GREGORIAN
METHOD:PUBLISH
X-WR-CALNAME:NOSUF
X-ORIGINAL-URL:https://nosuf.ch
X-WR-CALDESC:Veranstaltungen für NOSUF
REFRESH-INTERVAL;VALUE=DURATION:PT1H
X-Robots-Tag:noindex
X-PUBLISHED-TTL:PT1H
BEGIN:VTIMEZONE
TZID:Europe/Zurich
BEGIN:DAYLIGHT
TZOFFSETFROM:+0100
TZOFFSETTO:+0200
TZNAME:CEST
DTSTART:20240331T010000
END:DAYLIGHT
BEGIN:STANDARD
TZOFFSETFROM:+0200
TZOFFSETTO:+0100
TZNAME:CET
DTSTART:20241027T010000
END:STANDARD
BEGIN:DAYLIGHT
TZOFFSETFROM:+0100
TZOFFSETTO:+0200
TZNAME:CEST
DTSTART:20250330T010000
END:DAYLIGHT
BEGIN:STANDARD
TZOFFSETFROM:+0200
TZOFFSETTO:+0100
TZNAME:CET
DTSTART:20251026T010000
END:STANDARD
BEGIN:DAYLIGHT
TZOFFSETFROM:+0100
TZOFFSETTO:+0200
TZNAME:CEST
DTSTART:20260329T010000
END:DAYLIGHT
BEGIN:STANDARD
TZOFFSETFROM:+0200
TZOFFSETTO:+0100
TZNAME:CET
DTSTART:20261025T010000
END:STANDARD
END:VTIMEZONE
BEGIN:VEVENT
DTSTART;TZID=Europe/Zurich:20251208T174500
DTEND;TZID=Europe/Zurich:20251208T203000
DTSTAMP:20260424T223715
CREATED:20251009T171110Z
LAST-MODIFIED:20251119T141250Z
UID:10000493-1765215900-1765225800@nosuf.ch
SUMMARY:EINLADUNG NOSUF: Montag\, 8. Dezember 2025 «Dienstleistung aus der Sicht des Butlers»
DESCRIPTION:Als Leiterin Weiterbildung bei GastroSuisse verbindet Zita Langenstein didaktische Exzellenz mit gelebter Servicekultur. Ihre Butler-Ausbildung in London und Einsätze für anspruchsvolle Privatkundschaft – bis hin zum britischen Hof – prägen ihren Blick auf höchste Dienstleistungsstandards. Im Impuls «Dienstleistung – aus der Sicht eines Butlers» liefert sie konkrete Antworten: Was heisst heute wirklich dienen? Weshalb verlieren Unternehmen nach dem ersten Kontakt zwei Drittel der Interessierten? Und woran erkenne ich guten Service im Alltag? Ein inspirierender Reality-Check für Führung und Front.
URL:https://nosuf.ch/veranstaltung/dienstleistung-aus-der-sicht-des-butlers/
LOCATION:Greuterhof Islikon\, Hauptstrasse 15\, Islikon TG\, Thurgau\, 8546
ATTACH;FMTTYPE=image/jpeg:https://nosuf.ch/wp-content/uploads/2025/10/buttler.jpg
ORGANIZER;CN="NOSUF Unternehmer Forum":MAILTO:info@nosuf.ch
END:VEVENT
END:VCALENDAR