BEGIN:VCALENDAR
VERSION:2.0
PRODID:-//NOSUF - ECPv6.15.20//NONSGML v1.0//EN
CALSCALE:GREGORIAN
METHOD:PUBLISH
X-ORIGINAL-URL:https://nosuf.ch
X-WR-CALDESC:Veranstaltungen für NOSUF
REFRESH-INTERVAL;VALUE=DURATION:PT1H
X-Robots-Tag:noindex
X-PUBLISHED-TTL:PT1H
BEGIN:VTIMEZONE
TZID:Europe/Zurich
BEGIN:DAYLIGHT
TZOFFSETFROM:+0100
TZOFFSETTO:+0200
TZNAME:CEST
DTSTART:20250330T010000
END:DAYLIGHT
BEGIN:STANDARD
TZOFFSETFROM:+0200
TZOFFSETTO:+0100
TZNAME:CET
DTSTART:20251026T010000
END:STANDARD
BEGIN:DAYLIGHT
TZOFFSETFROM:+0100
TZOFFSETTO:+0200
TZNAME:CEST
DTSTART:20260329T010000
END:DAYLIGHT
BEGIN:STANDARD
TZOFFSETFROM:+0200
TZOFFSETTO:+0100
TZNAME:CET
DTSTART:20261025T010000
END:STANDARD
BEGIN:DAYLIGHT
TZOFFSETFROM:+0100
TZOFFSETTO:+0200
TZNAME:CEST
DTSTART:20270328T010000
END:DAYLIGHT
BEGIN:STANDARD
TZOFFSETFROM:+0200
TZOFFSETTO:+0100
TZNAME:CET
DTSTART:20271031T010000
END:STANDARD
END:VTIMEZONE
BEGIN:VEVENT
DTSTART;TZID=Europe/Zurich:20260622T080000
DTEND;TZID=Europe/Zurich:20260622T170000
DTSTAMP:20260424T192008
CREATED:20251105T143928Z
LAST-MODIFIED:20260208T182144Z
UID:10000500-1782115200-1782147600@nosuf.ch
SUMMARY:EINLADUNG NOSUF: Montag\, 22. Juni 2026   «Anwendbare Methoden für nachhaltiges Umsatzwachstum»
DESCRIPTION:Jeremy L. Meier kümmert sich mit Performance Partners erfolgsbasiert um die Entwicklung und Operative Exzellenz von Unternehmen. \nEr hat langjährige Erfahrung in der strategischen und operativen Entwicklung von Klein- bis Grossunternehmen und verfügt über einen Master in Unternehmensführung (HSG) mit Fokus auf KMU und Familienunternehmen
URL:https://nosuf.ch/veranstaltung/anwendbare-methoden-fuer-nachhaltiges-umsatzwachstum/
ATTACH;FMTTYPE=image/jpeg:https://nosuf.ch/wp-content/uploads/2025/11/6646fd1d38078724dd7e89a3_Jeremy.jpg
ORGANIZER;CN="NOSUF Unternehmer Forum":MAILTO:info@nosuf.ch
END:VEVENT
END:VCALENDAR