BEGIN:VCALENDAR
VERSION:2.0
PRODID:-//NOSUF - ECPv6.15.20//NONSGML v1.0//EN
CALSCALE:GREGORIAN
METHOD:PUBLISH
X-ORIGINAL-URL:https://nosuf.ch
X-WR-CALDESC:Veranstaltungen für NOSUF
REFRESH-INTERVAL;VALUE=DURATION:PT1H
X-Robots-Tag:noindex
X-PUBLISHED-TTL:PT1H
BEGIN:VTIMEZONE
TZID:Europe/Zurich
BEGIN:DAYLIGHT
TZOFFSETFROM:+0100
TZOFFSETTO:+0200
TZNAME:CEST
DTSTART:20240331T010000
END:DAYLIGHT
BEGIN:STANDARD
TZOFFSETFROM:+0200
TZOFFSETTO:+0100
TZNAME:CET
DTSTART:20241027T010000
END:STANDARD
BEGIN:DAYLIGHT
TZOFFSETFROM:+0100
TZOFFSETTO:+0200
TZNAME:CEST
DTSTART:20250330T010000
END:DAYLIGHT
BEGIN:STANDARD
TZOFFSETFROM:+0200
TZOFFSETTO:+0100
TZNAME:CET
DTSTART:20251026T010000
END:STANDARD
BEGIN:DAYLIGHT
TZOFFSETFROM:+0100
TZOFFSETTO:+0200
TZNAME:CEST
DTSTART:20260329T010000
END:DAYLIGHT
BEGIN:STANDARD
TZOFFSETFROM:+0200
TZOFFSETTO:+0100
TZNAME:CET
DTSTART:20261025T010000
END:STANDARD
END:VTIMEZONE
BEGIN:VEVENT
DTSTART;TZID=Europe/Zurich:20250825T174500
DTEND;TZID=Europe/Zurich:20250825T203000
DTSTAMP:20260425T054020
CREATED:20240913T112902Z
LAST-MODIFIED:20240913T112902Z
UID:10000485-1756143900-1756153800@nosuf.ch
SUMMARY:Die Arbeitswelt im Umbruch: Herausforderungen und Chancen
DESCRIPTION:Liebe Mitglieder und Tagesgäste \nWie reagiert der Arbeitsmarkt auf die aktuellen Herausforderungen? Wie begegnen Unternehmen dem Arbeitskräftemangel und welche Auswirkungen haben die Bilateralen III auf die Akteure der Wirtschaft? \nIn der NOSUF-Veranstaltung vom 25. August 2025 tauchen wir ein in zentrale Themen der Arbeitsmarktentwicklung und schlagen eine Brücke zwischen Wirtschaft und Staat. \nFür unser Fachreferat begrüssen wir Daniel Wessner\, Leiter des Amts für Wirtschaft und Arbeit (AWA) des Kantons Thurgau. Von ihm erhalten wir aus erster Hand Informationen über die aktuellen Trends und Entwicklungen in der Arbeitswelt. Beim anschliessenden Apéro bietet sich die Gelegenheit für einen weiterführenden Austausch. \nFalls fachliche Fragen an Daniel Wessner anonym gestellt werden möchten\, nehmen wir diese gerne im Vorfeld via info@nosuf.ch entgegen. \n\n\n\nDaniel Wessner\, lic. iur. HSG und Rechtsanwalt\, leitet das Amt für Wirtschaft und Arbeit (AWA) des Kantons Thurgau und ist Vorstandsmitglied der Schweizer Arbeitsmarktbehörden VSAA sowie Mitglied der Eidgenössischen Arbeits-kommission.\nAls Delegierter der Kantone vertritt er die Schweiz in der internationalen Arbeitsgruppe zur Personenfreizügigkeit. Er ist Vorsitzender des Technologieforums Thurgau und Verwaltungsrat der Switzerland Innovation Park Ost AG\n.
URL:https://nosuf.ch/veranstaltung/die-arbeitswelt-im-umbruch-herausforderungen-und-chancen/
LOCATION:giardino del vino\, Balierestrasse 15\, Frauenfeld\, 8500
ORGANIZER;CN="NOSUF Unternehmer Forum":MAILTO:info@nosuf.ch
END:VEVENT
END:VCALENDAR