BEGIN:VCALENDAR
VERSION:2.0
PRODID:-//NOSUF - ECPv6.15.20//NONSGML v1.0//EN
CALSCALE:GREGORIAN
METHOD:PUBLISH
X-ORIGINAL-URL:https://nosuf.ch
X-WR-CALDESC:Veranstaltungen für NOSUF
REFRESH-INTERVAL;VALUE=DURATION:PT1H
X-Robots-Tag:noindex
X-PUBLISHED-TTL:PT1H
BEGIN:VTIMEZONE
TZID:Europe/Zurich
BEGIN:DAYLIGHT
TZOFFSETFROM:+0100
TZOFFSETTO:+0200
TZNAME:CEST
DTSTART:20250330T010000
END:DAYLIGHT
BEGIN:STANDARD
TZOFFSETFROM:+0200
TZOFFSETTO:+0100
TZNAME:CET
DTSTART:20251026T010000
END:STANDARD
BEGIN:DAYLIGHT
TZOFFSETFROM:+0100
TZOFFSETTO:+0200
TZNAME:CEST
DTSTART:20260329T010000
END:DAYLIGHT
BEGIN:STANDARD
TZOFFSETFROM:+0200
TZOFFSETTO:+0100
TZNAME:CET
DTSTART:20261025T010000
END:STANDARD
BEGIN:DAYLIGHT
TZOFFSETFROM:+0100
TZOFFSETTO:+0200
TZNAME:CEST
DTSTART:20270328T010000
END:DAYLIGHT
BEGIN:STANDARD
TZOFFSETFROM:+0200
TZOFFSETTO:+0100
TZNAME:CET
DTSTART:20271031T010000
END:STANDARD
END:VTIMEZONE
BEGIN:VEVENT
DTSTART;TZID=Europe/Zurich:20261019T080000
DTEND;TZID=Europe/Zurich:20261019T170000
DTSTAMP:20260424T154735
CREATED:20251105T144238Z
LAST-MODIFIED:20251105T144238Z
UID:10000504-1792396800-1792429200@nosuf.ch
SUMMARY:Coming soon
DESCRIPTION:
URL:https://nosuf.ch/veranstaltung/coming-soon-9/
ORGANIZER;CN="NOSUF Unternehmer Forum":MAILTO:info@nosuf.ch
END:VEVENT
BEGIN:VEVENT
DTSTART;TZID=Europe/Zurich:20261123T080000
DTEND;TZID=Europe/Zurich:20261123T170000
DTSTAMP:20260424T154735
CREATED:20251105T144314Z
LAST-MODIFIED:20251105T144314Z
UID:10000505-1795420800-1795453200@nosuf.ch
SUMMARY:Coming soon
DESCRIPTION:
URL:https://nosuf.ch/veranstaltung/coming-soon-10/
ORGANIZER;CN="NOSUF Unternehmer Forum":MAILTO:info@nosuf.ch
END:VEVENT
BEGIN:VEVENT
DTSTART;TZID=Europe/Zurich:20261214T080000
DTEND;TZID=Europe/Zurich:20261214T170000
DTSTAMP:20260424T154735
CREATED:20251105T144410Z
LAST-MODIFIED:20251105T144554Z
UID:10000506-1797235200-1797267600@nosuf.ch
SUMMARY:Coming soon
DESCRIPTION:
URL:https://nosuf.ch/veranstaltung/coming-soon-11/
ORGANIZER;CN="NOSUF Unternehmer Forum":MAILTO:info@nosuf.ch
END:VEVENT
END:VCALENDAR